BEGIN:VCALENDAR
VERSION:2.0
PRODID:-//AudioTheme 2.3.0
BEGIN:VEVENT
UID:urn:uuid:393626ef-39bb-42d9-9673-859229f90181
URL:http://www.szymonmika.com/concerts/adam-kawonczyk-quartet-5/
DTSTART;VALUE=DATE:20230603
SUMMARY:Adam Kawończyk Quartet
LOCATION:Harris Piano Jazz Bar\, Rynek Główny 28\, Kraków\, \, Polska
END:VEVENT
END:VCALENDAR
