BEGIN:VCALENDAR
VERSION:2.0
PRODID:-//AudioTheme 2.3.0
BEGIN:VEVENT
UID:urn:uuid:4cfc9b88-6f0b-4ffe-9698-138b06541a78
URL:http://www.szymonmika.com/concerts/aga-derlak-trio/
DTSTART;VALUE=DATE:20180805
SUMMARY:Aga Derlak Trio +
LOCATION:Łódź\, Łódź\, Łódź\, \, Poland
END:VEVENT
END:VCALENDAR
