BEGIN:VCALENDAR
VERSION:2.0
PRODID:-//AudioTheme 2.3.0
BEGIN:VEVENT
UID:urn:uuid:ea451b50-438f-4588-bf36-b79be12ff757
URL:http://www.szymonmika.com/concerts/heart-beats/
DTSTART;VALUE=DATE:20220126
SUMMARY:Heart Beats
LOCATION:Strzeliński Ośrodek Kultury\, Strzelin\, \, Poland
END:VEVENT
END:VCALENDAR
