BEGIN:VCALENDAR
VERSION:2.0
PRODID:-//AudioTheme 2.3.0
BEGIN:VEVENT
UID:urn:uuid:76a1db99-6246-4774-8675-8da6fac5f59a
URL:http://www.szymonmika.com/concerts/marta-wajdzik-experiment/
DTSTART;VALUE=DATE:20230103
SUMMARY:Marta Wajdzik Experiment
DESCRIPTION:Nospr
LOCATION:NOSPR\, Katowice\, Katowice\, \, Polska
END:VEVENT
END:VCALENDAR
