BEGIN:VCALENDAR
VERSION:2.0
PRODID:-//AudioTheme 2.3.0
BEGIN:VEVENT
UID:urn:uuid:2b9d0340-0e40-46cf-846d-68c9087c0468
URL:http://www.szymonmika.com/concerts/piotr-wylezol-szymon-mika-10/
DTSTART;VALUE=DATE:20250614
SUMMARY:Piotr Wyleżoł & Szymon Mika
DESCRIPTION:Muzyczna Owczarnia
LOCATION:Muzyczna Owczarnia\, Jaworki\, Jaworki\, \, Polska
END:VEVENT
END:VCALENDAR
