BEGIN:VCALENDAR
VERSION:2.0
PRODID:-//AudioTheme 2.3.0
BEGIN:VEVENT
UID:urn:uuid:e0d1f19f-3515-4610-a602-8e1b4fc32c90
URL:http://www.szymonmika.com/concerts/szymon-mika-trio-13/
DTSTART;VALUE=DATE:20250415
SUMMARY:Szymon Mika Trio
DESCRIPTION:Dom Kultury Piaseczno
LOCATION:Piaseczno\, Dom Kultury\, Piaseczno\, \, Polska
END:VEVENT
END:VCALENDAR
