BEGIN:VCALENDAR
VERSION:2.0
PRODID:-//AudioTheme 2.3.0
BEGIN:VEVENT
UID:urn:uuid:046eb837-b469-48a5-b9d0-da893e1b7684
URL:http://www.szymonmika.com/concerts/szymon-mika-trio-5/
DTSTART;VALUE=DATE:20191115
SUMMARY:Szymon Mika Trio
LOCATION:Novum Jazz Festival\, Łomża\, Łomża\, \, Polska
END:VEVENT
END:VCALENDAR
