BEGIN:VCALENDAR
VERSION:2.0
PRODID:-//AudioTheme 2.3.0
BEGIN:VEVENT
UID:urn:uuid:e5a15153-6d70-4240-8544-6f4a9ba50108
URL:http://www.szymonmika.com/concerts/szymon-mika-trio-7/
DTSTART;VALUE=DATE:20190906
SUMMARY:Szymon Mika Trio
LOCATION:Opus Jazz Club\, Budapest\, \, Hungary
END:VEVENT
END:VCALENDAR
