BEGIN:VCALENDAR
VERSION:2.0
PRODID:-//AudioTheme 2.3.0
BEGIN:VEVENT
UID:urn:uuid:2c4c2bb3-a035-4f48-b152-86efd16746da
URL:http://www.szymonmika.com/concerts/szymon-mika-trio-guests/
DTSTART;VALUE=DATE:20190509
SUMMARY:Szymon Mika Trio & Guests
LOCATION:Podziemia Kamedulskie\, Warszawa\, \, Polska
END:VEVENT
END:VCALENDAR
