BEGIN:VCALENDAR
VERSION:2.0
PRODID:-//AudioTheme 2.3.0
BEGIN:VEVENT
UID:urn:uuid:ba2f0218-632b-46cc-9504-1bb3ed4d517b
URL:http://www.szymonmika.com/concerts/yumi-ito-szymon-mika-28/
DTSTART;VALUE=DATE:20230224
SUMMARY:Yumi Ito & Szymon Mika
DESCRIPTION:Jazz Cafe Posk 
LOCATION:Jazz Cafe Posk\, London\, \, UK
END:VEVENT
END:VCALENDAR
