BEGIN:VCALENDAR
VERSION:2.0
PRODID:-//AudioTheme 2.3.0
BEGIN:VEVENT
UID:urn:uuid:fae4f03d-172b-4962-81a9-d0401af9c02a
URL:http://www.szymonmika.com/concerts/yumi-ito-szymon-mika-37/
DTSTART;VALUE=DATE:20230917
SUMMARY:Yumi Ito & Szymon Mika
DESCRIPTION:Oetkerhalle
LOCATION:Oetkerhalle\, Bielefeld\, \, Germany
END:VEVENT
END:VCALENDAR
