BEGIN:VCALENDAR
VERSION:2.0
PRODID:-//AudioTheme 2.3.0
BEGIN:VEVENT
UID:urn:uuid:c4275456-476c-4f84-8232-eca48f851940
URL:http://www.szymonmika.com/concerts/yumi-ito-szymon-mika-duo-11/
DTSTART;VALUE=DATE:20190523
SUMMARY:Yumi Ito | Szymon Mika Duo
LOCATION:Solo Duo Trio Festival\, Piwnica Pod Baranami\, Kraków\, \, Polska
END:VEVENT
END:VCALENDAR
