BEGIN:VCALENDAR
VERSION:2.0
PRODID:-//AudioTheme 2.3.0
BEGIN:VEVENT
UID:urn:uuid:91aad7dd-d84d-4a0e-82ed-f242ce37d7a1
URL:https://www.szymonmika.com/concerts/aga-zaryan-high-low-3/
DTSTART;TZID=GMT:20181119T180000
SUMMARY:Aga Zaryan - High & Low
LOCATION:Aula UAM\, Aula UAM\, Poznań\, \, Polska
END:VEVENT
END:VCALENDAR
