BEGIN:VCALENDAR
VERSION:2.0
PRODID:-//AudioTheme 2.3.0
BEGIN:VEVENT
UID:urn:uuid:e600853e-e8e4-438b-8dc0-f75cc4127a65
URL:https://www.szymonmika.com/concerts/allison-miller/
DTSTART;VALUE=DATE:20220813
SUMMARY:Allison Miller
DESCRIPTION:Jazzfest Passau
LOCATION:Jazzfest Passau\, Passau\, \, Germany
END:VEVENT
END:VCALENDAR
