BEGIN:VCALENDAR
VERSION:2.0
PRODID:-//AudioTheme 2.3.0
BEGIN:VEVENT
UID:urn:uuid:e11da9ef-1ff5-4f18-b222-bd37e08c5da3
URL:https://www.szymonmika.com/concerts/marek-pospieszalski-oktet-4/
DTSTART;VALUE=DATE:20230706
SUMMARY:Marek Pospieszalski Oktet
DESCRIPTION:Warsaw Summer Jazz Days
LOCATION:Warsaw Summer Jazz Days\, Warszawa\, \, Polska
END:VEVENT
END:VCALENDAR
