BEGIN:VCALENDAR
VERSION:2.0
PRODID:-//AudioTheme 2.3.0
BEGIN:VEVENT
UID:urn:uuid:40a62f8c-2d2f-40ef-91e0-0315bfe92033
URL:https://www.szymonmika.com/concerts/szymon-mika-trio-10/
DTSTART;VALUE=DATE:20240407
SUMMARY:Szymon Mika Trio
DESCRIPTION:private event
LOCATION:Kraków\, Kraków\, \, Poland
END:VEVENT
END:VCALENDAR
