BEGIN:VCALENDAR
VERSION:2.0
PRODID:-//AudioTheme 2.3.0
BEGIN:VEVENT
UID:urn:uuid:1be5e013-46cb-4169-ae9e-7b084a3a6702
URL:https://www.szymonmika.com/concerts/yumi-ito-szymon-mika-16/
DTSTART;VALUE=DATE:20230218
SUMMARY:Yumi Ito & Szymon Mika
DESCRIPTION:Kulturhaus Kresslemuhle
LOCATION:Kulturhaus Kresslemuhle\, Augsburg\, \, Germany
END:VEVENT
END:VCALENDAR
