BEGIN:VCALENDAR
VERSION:2.0
PRODID:-//AudioTheme 2.3.0
BEGIN:VEVENT
UID:urn:uuid:0648ccd9-aca3-49b6-8745-01cd3b9972f7
URL:https://www.szymonmika.com/concerts/yumi-ito-szymon-mika-26/
DTSTART;VALUE=DATE:20230217
SUMMARY:Yumi Ito & Szymon Mika
DESCRIPTION:Domicil
LOCATION:Domicil\, Dortumnd\, \, Germany
END:VEVENT
END:VCALENDAR
